BEGIN:VCALENDAR
VERSION:2.0
PRODID:-//X Church - ECPv6.15.20//NONSGML v1.0//EN
CALSCALE:GREGORIAN
METHOD:PUBLISH
X-WR-CALNAME:X Church
X-ORIGINAL-URL:https://thex.church
X-WR-CALDESC:Events for X Church
REFRESH-INTERVAL;VALUE=DURATION:PT1H
X-Robots-Tag:noindex
X-PUBLISHED-TTL:PT1H
BEGIN:VTIMEZONE
TZID:UTC
BEGIN:STANDARD
TZOFFSETFROM:+0000
TZOFFSETTO:+0000
TZNAME:UTC
DTSTART:20260101T000000
END:STANDARD
END:VTIMEZONE
BEGIN:VEVENT
DTSTART;TZID=UTC:20270129T093000
DTEND;TZID=UTC:20270129T130000
DTSTAMP:20260422T090315
CREATED:20260120T174838Z
LAST-MODIFIED:20260120T174838Z
UID:845992-1801215000-1801227600@thex.church
SUMMARY:Serve at Stowe Mission
DESCRIPTION:Here at X Church\, we take pride in supporting our community and being generous with our time as we help those facing hardship. One of the ways we do this is through our partnership with Stowe Mission of Central Ohio. Come help us prepare a warm meal and serve our community. It’s a great way to connect with others from X Church and spread the love of Jesus through our commitment to serve. \nCLICK HERE TO REGISTER
URL:https://thex.church/event/serve-at-stowe-mission-49/
CATEGORIES:Outreach
ATTACH;FMTTYPE=image/png:https://thex.church/wp-content/uploads/2025/10/Stowe-eventthumb.png
END:VEVENT
END:VCALENDAR